
BEGIN:VCALENDAR
VERSION:2.0
CALSCALE:GREGORIAN
BEGIN:VEVENT
URL;VALUE=URI:https://www.boardoftrade.com/events/6465
DTSTART:20190911T000000Z
DTEND:20190911T023000Z
UID:6465eventcalendar.boardoftrade.com
DTSTAMP:20260420T001149Z
LOCATION:Coast Coal Harbour - Ballrooms A and B | 1180 Hastings St.\, Vancouver | 
DESCRIPTION:Schedule: \nRegistration\, Networking & Corporate Headshots: 5:00 – 6:00 p.m. \nAwards Presentation: 6:00 - 6:30 p.m.\nFireside Chat with Kevin Desmond: 6:30 - 7:00 p.m.\nNetworking Reception: 7:00 - 7:30 p.m.\n\n \nEvent Detail Page: https://www.boardoftrade.com/events/6465
X-ALT-DESC;FMTTYPE=text/html:<!doctype html><html><body><div>Schedule: <p>Registration\, Networking & Corporate Headshots: 5:00 – 6:00 p.m. <BR>Awards Presentation: 6:00 - 6:30 p.m.<BR>Fireside Chat with Kevin Desmond: 6:30 - 7:00 p.m.<BR>Networking Reception: 7:00 - 7:30 p.m.<BR></p></div>&nbsp\;<div>Event Detail Page: https://www.boardoftrade.com/events/6465</div></body></html>

SUMMARY:2018-19 LOT Graduation and New Student Welcome
END:VEVENT
END:VCALENDAR