
BEGIN:VCALENDAR
VERSION:2.0
CALSCALE:GREGORIAN
BEGIN:VEVENT
URL;VALUE=URI:https://www.boardoftrade.com/events/6462
DTSTART:20190925T141500Z
DTEND:20190925T160000Z
UID:6462eventcalendar.boardoftrade.com
DTSTAMP:20260420T001446Z
LOCATION:Century Plaza Hotel | 1015 Burrard Street\, Vancouver  | Burrard Ballroom (P2 Level) | 
DESCRIPTION:Schedule: \nRegistration:  7:15 - 7:30 a.m. \nProgram:  7:30  - 9:00 a.m.\n\n\n \nEvent Detail Page: https://www.boardoftrade.com/events/6462
X-ALT-DESC;FMTTYPE=text/html:<!doctype html><html><body><div>Schedule: <p>Registration: &nbsp\;7:15 - 7:30 a.m. <BR>Program: &nbsp\;7:30  - 9:00 a.m.<BR><BR></p></div>&nbsp\;<div>Event Detail Page: https://www.boardoftrade.com/events/6462</div></body></html>

SUMMARY:Kickstart Series: New Member Orientation and Networking
END:VEVENT
END:VCALENDAR