
BEGIN:VCALENDAR
VERSION:2.0
CALSCALE:GREGORIAN
BEGIN:VEVENT
URL;VALUE=URI:https://www.boardoftrade.com/events/6461
DTSTART:20190927T183000Z
DTEND:20190927T210000Z
UID:6461eventcalendar.boardoftrade.com
DTSTAMP:20260420T001434Z
LOCATION:Fairmont Waterfront Vancouver  | Waterfront Ballroom  | 900 Canada Place\, Vancouver |  |  | 
DESCRIPTION:Schedule: \nRegistration: 11:30 a.m.\nLunch & Program: 12:00 p.m. - 2:15 p.m.\n \nEvent Detail Page: https://www.boardoftrade.com/events/6461
X-ALT-DESC;FMTTYPE=text/html:<!doctype html><html><body><div>Schedule: <p>Registration: 11:30 a.m.<BR>Lunch & Program: 12:00 p.m. - 2:15 p.m.</p></div>&nbsp\;<div>Event Detail Page: https://www.boardoftrade.com/events/6461</div></body></html>

SUMMARY:Developing & Deploying an Integrated Asian Export Strategy
END:VEVENT
END:VCALENDAR