
BEGIN:VCALENDAR
VERSION:2.0
CALSCALE:GREGORIAN
BEGIN:VEVENT
URL;VALUE=URI:https://www.boardoftrade.com/events/6456
DTSTART:20191023T153000Z
DTEND:20191024T000000Z
UID:6456eventcalendar.boardoftrade.com
DTSTAMP:20260420T001512Z
LOCATION:Fairmont Hotel Vancouver 900 W Georgia St\, Vancouver |  | 
DESCRIPTION:Schedule: \nRegistration:  8:30 - 9:00 a.m. \nProgram:  9:00 a.m. - 5:00 p.m.\n\n<em>Lunch will be provided</em>\n \nEvent Detail Page: https://www.boardoftrade.com/events/6456
X-ALT-DESC;FMTTYPE=text/html:<!doctype html><html><body><div>Schedule: <p>Registration: &nbsp\;8:30 - 9:00 a.m. <BR>Program: &nbsp\;9:00 a.m. - 5:00 p.m.<BR><BR><em>Lunch will be provided</em></p></div>&nbsp\;<div>Event Detail Page: https://www.boardoftrade.com/events/6456</div></body></html>

SUMMARY:Trade Accelerator Program: Greater Vancouver
END:VEVENT
END:VCALENDAR