
BEGIN:VCALENDAR
VERSION:2.0
CALSCALE:GREGORIAN
BEGIN:VEVENT
URL;VALUE=URI:https://www.boardoftrade.com/events/6454
DTSTART:20190923T140000Z
DTEND:20190923T160000Z
UID:6454eventcalendar.boardoftrade.com
DTSTAMP:20260420T001511Z
LOCATION:Fairmont Hotel Vancouver - Saturna Island Ballroom | 900 W Georgia St.\, Vancouver | 
DESCRIPTION:Schedule: \nRegistration & Breakfast:  7:00 - 7:30 a.m. \nProgram:  7:30 - 9:00 a.m.\n\n \nEvent Detail Page: https://www.boardoftrade.com/events/6454
X-ALT-DESC;FMTTYPE=text/html:<!doctype html><html><body><div>Schedule: <p>Registration & Breakfast: &nbsp\;7:00 - 7:30 a.m. <BR>Program: &nbsp\;7:30 - 9:00 a.m.<BR></p></div>&nbsp\;<div>Event Detail Page: https://www.boardoftrade.com/events/6454</div></body></html>

SUMMARY:Gender Equality Week: Engaging Men as Change Agents
END:VEVENT
END:VCALENDAR