
BEGIN:VCALENDAR
VERSION:2.0
CALSCALE:GREGORIAN
BEGIN:VEVENT
URL;VALUE=URI:https://www.boardoftrade.com/events/6452
DTSTART:20191010T143000Z
DTEND:20191010T190000Z
UID:6452eventcalendar.boardoftrade.com
DTSTAMP:20260420T001553Z
LOCATION:Fairmont Waterfront Vancouver  - Waterfront Ballroom900 Canada Place\, Vancouver |  | 
DESCRIPTION:Schedule: \nRegistration & Breakfast: 7:30 - 8:00 a.m.\nProgram: 8:00 a.m. - 12:00 p.m. \n\n \nEvent Detail Page: https://www.boardoftrade.com/events/6452
X-ALT-DESC;FMTTYPE=text/html:<!doctype html><html><body><div>Schedule: <p>Registration & Breakfast: 7:30 - 8:00 a.m.<BR>Program: 8:00 a.m. - 12:00 p.m. <BR></p></div>&nbsp\;<div>Event Detail Page: https://www.boardoftrade.com/events/6452</div></body></html>

SUMMARY:Women's Health Care Forum Presented by Pacific Blue Cross
END:VEVENT
END:VCALENDAR