
BEGIN:VCALENDAR
VERSION:2.0
CALSCALE:GREGORIAN
BEGIN:VEVENT
URL;VALUE=URI:https://www.boardoftrade.com/events/6451
DTSTART:20190917T140000Z
DTEND:20190917T160000Z
UID:6451eventcalendar.boardoftrade.com
DTSTAMP:20260420T001148Z
LOCATION:Fairmont Hotel Vancouver - Pacific Ballroom900 W Georgia St\, Vancouver |  | 
DESCRIPTION:Schedule: \nOpen Networking and Breakfast:  7:00 - 7:45 a.m. \nFacilitated Networking:  7:45 - 8:00 a.m.\nPresentation and Q&A:  8:00 - 9:00 a.m.\n\n \nEvent Detail Page: https://www.boardoftrade.com/events/6451
X-ALT-DESC;FMTTYPE=text/html:<!doctype html><html><body><div>Schedule: <p>Open Networking and Breakfast: &nbsp\;7:00 - 7:45 a.m. <BR>Facilitated Networking: &nbsp\;7:45 - 8:00 a.m.<BR>Presentation and Q&A: &nbsp\;8:00 - 9:00 a.m.<BR></p></div>&nbsp\;<div>Event Detail Page: https://www.boardoftrade.com/events/6451</div></body></html>

SUMMARY:Thrive Series: Find\, target\, engage and nurture customers using Facebook
END:VEVENT
END:VCALENDAR