
BEGIN:VCALENDAR
VERSION:2.0
CALSCALE:GREGORIAN
BEGIN:VEVENT
URL;VALUE=URI:https://www.boardoftrade.com/events/6449
DTSTART:20190920T143000Z
DTEND:20190920T220000Z
UID:6449eventcalendar.boardoftrade.com
DTSTAMP:20260420T001310Z
LOCATION:Fairmont Waterfront Hotel900 Canada Place\, Vancouver |  |  | 
DESCRIPTION:Schedule: \nBreakfast & Registration: 7:30 - 8:00 a.m. \nProgram: 8:00 a.m. - 12:00 p.m.\nNetworking Lunch: 12:00 - 12:45 p.m.\nProgram: 12:45 - 3:00 p.m.\n\n\n \nEvent Detail Page: https://www.boardoftrade.com/events/6449
X-ALT-DESC;FMTTYPE=text/html:<!doctype html><html><body><div>Schedule: <p>Breakfast & Registration: 7:30 - 8:00 a.m. <BR>Program: 8:00 a.m. - 12:00 p.m.<BR>Networking Lunch: 12:00 - 12:45 p.m.<BR>Program: 12:45 - 3:00 p.m.<BR><BR></p></div>&nbsp\;<div>Event Detail Page: https://www.boardoftrade.com/events/6449</div></body></html>

SUMMARY:International e-Commerce Essentials: Featuring Facebook
END:VEVENT
END:VCALENDAR