
BEGIN:VCALENDAR
VERSION:2.0
CALSCALE:GREGORIAN
BEGIN:VEVENT
URL;VALUE=URI:https://www.boardoftrade.com/events/6447
DTSTART:20190616T160000Z
DTEND:20190616T190000Z
UID:6447eventcalendar.boardoftrade.com
DTSTAMP:20260420T014950Z
LOCATION:Lumberman's Arch | Stanley Park\, Vancouver |   | 
DESCRIPTION:Schedule: \nProgram: 10:00 a.m. - 1:00 p.m.\n\n \nEvent Detail Page: https://www.boardoftrade.com/events/6447
X-ALT-DESC;FMTTYPE=text/html:<!doctype html><html><body><div>Schedule: <p>Program:&nbsp\;10:00 a.m. - 1:00 p.m.<BR></p></div>&nbsp\;<div>Event Detail Page: https://www.boardoftrade.com/events/6447</div></body></html>

SUMMARY:Volunteer at the World Partnership Walk
END:VEVENT
END:VCALENDAR