
BEGIN:VCALENDAR
VERSION:2.0
CALSCALE:GREGORIAN
BEGIN:VEVENT
URL;VALUE=URI:https://www.boardoftrade.com/events/6443
DTSTART:20190527T183000Z
DTEND:20190527T210000Z
UID:6443eventcalendar.boardoftrade.com
DTSTAMP:20260420T015242Z
LOCATION:Fairmont Waterfront Vancouver  | Mackenzie Ballroom900 Canada Place\, Vancouver |  |  | 
DESCRIPTION:Schedule: \nRegistration: 11:30 a.m.\nLunch & Program: 12:00 p.m. - 2:00 p.m.\n \nEvent Detail Page: https://www.boardoftrade.com/events/6443
X-ALT-DESC;FMTTYPE=text/html:<!doctype html><html><body><div>Schedule: <p>Registration: 11:30 a.m.<BR>Lunch & Program: 12:00 p.m. - 2:00 p.m.</p></div>&nbsp\;<div>Event Detail Page: https://www.boardoftrade.com/events/6443</div></body></html>

SUMMARY:The Art of Diplomacy
END:VEVENT
END:VCALENDAR