
BEGIN:VCALENDAR
VERSION:2.0
CALSCALE:GREGORIAN
BEGIN:VEVENT
URL;VALUE=URI:https://www.boardoftrade.com/events/6441
DTSTART:20190619T141500Z
DTEND:20190619T160000Z
UID:6441eventcalendar.boardoftrade.com
DTSTAMP:20260420T014857Z
LOCATION:Pinnacle Hotel HarbourfrontTuscany Room 1133 West Hastings StVancouver  | 
DESCRIPTION:Schedule: \nRegistration:  7:15 - 7:30 a.m. \nProgram:  7:30  - 9:00 a.m.\n\n\n \nEvent Detail Page: https://www.boardoftrade.com/events/6441
X-ALT-DESC;FMTTYPE=text/html:<!doctype html><html><body><div>Schedule: <p>Registration: &nbsp\;7:15 - 7:30 a.m. <BR>Program: &nbsp\;7:30  - 9:00 a.m.<BR><BR></p></div>&nbsp\;<div>Event Detail Page: https://www.boardoftrade.com/events/6441</div></body></html>

SUMMARY:Kickstart Series: New Member Orientation and Networking
END:VEVENT
END:VCALENDAR