
BEGIN:VCALENDAR
VERSION:2.0
CALSCALE:GREGORIAN
BEGIN:VEVENT
URL;VALUE=URI:https://www.boardoftrade.com/events/6440
DTSTART:20190607T143000Z
DTEND:20190607T220000Z
UID:6440eventcalendar.boardoftrade.com
DTSTAMP:20260420T015031Z
LOCATION:Richmond Golf and Country Club | 9100 Steveston Hwy\, Richmond\, BC | 
DESCRIPTION:Schedule: \nBreakfast & Registration: 7:30 a.m. - 8:00 a.m. \nProgram: 8:00 a.m. - 12:00 p.m.\nNetworking Lunch:12:00 p.m. - 12:30 p.m.\nProgram: 12:30 p.m - 3:00 p.m.\n\n \nEvent Detail Page: https://www.boardoftrade.com/events/6440
X-ALT-DESC;FMTTYPE=text/html:<!doctype html><html><body><div>Schedule: <p>Breakfast & Registration: 7:30 a.m. - 8:00 a.m. <BR>Program: 8:00 a.m. - 12:00 p.m.<BR>Networking Lunch:12:00 p.m. - 12:30 p.m.<BR>Program: 12:30 p.m - 3:00 p.m.<BR></p></div>&nbsp\;<div>Event Detail Page: https://www.boardoftrade.com/events/6440</div></body></html>

SUMMARY:International e-Commerce Essentials: Richmond and Delta
END:VEVENT
END:VCALENDAR