
BEGIN:VCALENDAR
VERSION:2.0
CALSCALE:GREGORIAN
BEGIN:VEVENT
URL;VALUE=URI:https://www.boardoftrade.com/events/6439
DTSTART:20190606T143000Z
DTEND:20190606T220000Z
UID:6439eventcalendar.boardoftrade.com
DTSTAMP:20260420T015124Z
LOCATION:Garden Park Tower  | Azalea Ballroom | 2825 Clearbrook Rd #101 | Abbotsford BC | 
DESCRIPTION:Schedule: \nBreakfast & Registration: 7:30 a.m. - 8:00 a.m. \nProgram: 8:00 a.m. - 12:00 p.m.\nNetworking Lunch:12:00 p.m. - 12:30 p.m.\nProgram: 12:30 p.m - 3:00 p.m.\n\n\n \nEvent Detail Page: https://www.boardoftrade.com/events/6439
X-ALT-DESC;FMTTYPE=text/html:<!doctype html><html><body><div>Schedule: <p>Breakfast & Registration: 7:30 a.m. - 8:00 a.m. <BR>Program: 8:00 a.m. - 12:00 p.m.<BR>Networking Lunch:12:00 p.m. - 12:30 p.m.<BR>Program: 12:30 p.m - 3:00 p.m.<BR><BR></p></div>&nbsp\;<div>Event Detail Page: https://www.boardoftrade.com/events/6439</div></body></html>

SUMMARY:International e-Commerce Essentials: Abbotsford
END:VEVENT
END:VCALENDAR