
BEGIN:VCALENDAR
VERSION:2.0
CALSCALE:GREGORIAN
BEGIN:VEVENT
URL;VALUE=URI:https://www.boardoftrade.com/events/6438
DTSTART:20190614T003000Z
DTEND:20190614T023000Z
UID:6438eventcalendar.boardoftrade.com
DTSTAMP:20260420T015253Z
LOCATION:Coast Coal Harbour - Ballroom B1180 Hastings St.\, Vancouver | 
DESCRIPTION:Schedule: \nRegistration and Networking Reception: 5:30 - 6:00 p.m.\nLOT Interviews: 6:00 - 7:30 p.m\n \nEvent Detail Page: https://www.boardoftrade.com/events/6438
X-ALT-DESC;FMTTYPE=text/html:<!doctype html><html><body><div>Schedule: <p>Registration and Networking Reception: 5:30 - 6:00 p.m.<BR>LOT Interviews: 6:00 - 7:30 p.m</p></div>&nbsp\;<div>Event Detail Page: https://www.boardoftrade.com/events/6438</div></body></html>

SUMMARY:Discovery Series: Speed Interview Night 2019
END:VEVENT
END:VCALENDAR