
BEGIN:VCALENDAR
VERSION:2.0
CALSCALE:GREGORIAN
BEGIN:VEVENT
URL;VALUE=URI:https://www.boardoftrade.com/events/6435
DTSTART:20190427T200000Z
DTEND:20190427T223000Z
UID:6435eventcalendar.boardoftrade.com
DTSTAMP:20260420T014943Z
LOCATION:Stanley Park Ecology Society | 712 Lost Lagoon Path\, Vancouver | 
DESCRIPTION:Schedule: \nProgram: 1:00 p.m. - 3:30 p.m.\n\n \nEvent Detail Page: https://www.boardoftrade.com/events/6435
X-ALT-DESC;FMTTYPE=text/html:<!doctype html><html><body><div>Schedule: <p>Program:&nbsp\;1:00 p.m. - 3:30 p.m.<BR></p></div>&nbsp\;<div>Event Detail Page: https://www.boardoftrade.com/events/6435</div></body></html>

SUMMARY:Volunteer with the Stanley Park Ecology Society
END:VEVENT
END:VCALENDAR