
BEGIN:VCALENDAR
VERSION:2.0
CALSCALE:GREGORIAN
BEGIN:VEVENT
URL;VALUE=URI:https://www.boardoftrade.com/events/6433
DTSTART:20190618T153000Z
DTEND:20190619T000000Z
UID:6433eventcalendar.boardoftrade.com
DTSTAMP:20260420T014923Z
LOCATION:Hotel Grand Pacific  | 463 Belleville St | Victoria |   | 
DESCRIPTION:Schedule: \nRegistration:  8:30 - 9:00 a.m. \nProgram:  9:00 a.m. - 5:00 p.m.\n\n<em>Lunch will be provided</em>\n\n \nEvent Detail Page: https://www.boardoftrade.com/events/6433
X-ALT-DESC;FMTTYPE=text/html:<!doctype html><html><body><div>Schedule: <p>Registration: &nbsp\;8:30 - 9:00 a.m. <BR>Program: &nbsp\;9:00 a.m. - 5:00 p.m.<BR><BR><em>Lunch will be provided</em><BR></p></div>&nbsp\;<div>Event Detail Page: https://www.boardoftrade.com/events/6433</div></body></html>

SUMMARY:Regional Trade Accelerator Program: Victoria
END:VEVENT
END:VCALENDAR