
BEGIN:VCALENDAR
VERSION:2.0
CALSCALE:GREGORIAN
BEGIN:VEVENT
URL;VALUE=URI:https://www.boardoftrade.com/events/6432
DTSTART:20190504T160000Z
DTEND:20190504T190000Z
UID:6432eventcalendar.boardoftrade.com
DTSTAMP:20260420T015020Z
LOCATION:Greater Vancouver Food Bank | 1150 Raymur Avenue\, Vancouver | 
DESCRIPTION:Schedule: \nProgram: 9:00 a.m. - 12:00 p.m.\n\n \nEvent Detail Page: https://www.boardoftrade.com/events/6432
X-ALT-DESC;FMTTYPE=text/html:<!doctype html><html><body><div>Schedule: <p>Program:&nbsp\;9:00 a.m. - 12:00 p.m.<BR></p></div>&nbsp\;<div>Event Detail Page: https://www.boardoftrade.com/events/6432</div></body></html>

SUMMARY:Volunteer with the Greater Vancouver Food Bank
END:VEVENT
END:VCALENDAR