
BEGIN:VCALENDAR
VERSION:2.0
CALSCALE:GREGORIAN
BEGIN:VEVENT
URL;VALUE=URI:https://www.boardoftrade.com/events/6429
DTSTART:20191119T193000Z
DTEND:20191119T220000Z
UID:6429eventcalendar.boardoftrade.com
DTSTAMP:20260420T001304Z
LOCATION:Fairmont Hotel Vancouver - BC Ballroom | 900 West Georgia Street\, Vancouver |  | 
DESCRIPTION:Schedule: \nRegistration:   11:30 a.m.\nLunch and Program:   12:00 - 2:00 p.m.\n \nEvent Detail Page: https://www.boardoftrade.com/events/6429
X-ALT-DESC;FMTTYPE=text/html:<!doctype html><html><body><div>Schedule: <p>Registration:  &nbsp\;11:30 a.m.<BR>Lunch and Program:  &nbsp\;12:00 - 2:00 p.m.</p></div>&nbsp\;<div>Event Detail Page: https://www.boardoftrade.com/events/6429</div></body></html>

SUMMARY:The Port of Vancouver: National powerhouse\, purposefully local
END:VEVENT
END:VCALENDAR