
BEGIN:VCALENDAR
VERSION:2.0
CALSCALE:GREGORIAN
BEGIN:VEVENT
URL;VALUE=URI:https://www.boardoftrade.com/events/6428
DTSTART:20191001T150000Z
DTEND:20191001T221500Z
UID:6428eventcalendar.boardoftrade.com
DTSTAMP:20260420T001224Z
LOCATION:Vancouver Convention Centre - WEST  | Ballrooms ABCD1055 Canada Place\, Vancouver | 
DESCRIPTION:Schedule: \nRegistration & Breakfast:  8:00 - 9:00 a.m.\nMorning Program:  9:00 a.m. - 12:00 p.m.\nLunch:  12:00 - 12:45 p.m.\nAfternoon Program:  12:45 - 3:15 p.m\n \nEvent Detail Page: https://www.boardoftrade.com/events/6428
X-ALT-DESC;FMTTYPE=text/html:<!doctype html><html><body><div>Schedule: <p>Registration & Breakfast: &nbsp\;8:00 - 9:00 a.m.<BR>Morning Program: &nbsp\;9:00 a.m. - 12:00 p.m.<BR>Lunch: &nbsp\;12:00 - 12:45 p.m.<BR>Afternoon Program: &nbsp\;12:45 - 3:15 p.m</p></div>&nbsp\;<div>Event Detail Page: https://www.boardoftrade.com/events/6428</div></body></html>

SUMMARY:Connecting For Change: We For She Conference 2019
END:VEVENT
END:VCALENDAR