
BEGIN:VCALENDAR
VERSION:2.0
CALSCALE:GREGORIAN
BEGIN:VEVENT
URL;VALUE=URI:https://www.boardoftrade.com/events/6421
DTSTART:20190502T140000Z
DTEND:20190502T160000Z
UID:6421eventcalendar.boardoftrade.com
DTSTAMP:20260420T015410Z
LOCATION:Pinnacle Hotel Harbourfront - Room: Tuscany1133 West Hastings Street\, Vancouver |  | 
DESCRIPTION:Schedule: \nOpen Networking and Breakfast:  7:00 - 7:30 a.m. \nFacilitated Workshop:  7:30 - 9:00 a.m.\n\n<em>Free street parking until 9:00 a.m.</em>\n\n \nEvent Detail Page: https://www.boardoftrade.com/events/6421
X-ALT-DESC;FMTTYPE=text/html:<!doctype html><html><body><div>Schedule: <p>Open Networking and Breakfast: &nbsp\;7:00 - 7:30 a.m. <BR>Facilitated Workshop: &nbsp\;7:30 - 9:00 a.m.<BR><BR><em>Free street parking until 9:00 a.m.</em><BR></p></div>&nbsp\;<div>Event Detail Page: https://www.boardoftrade.com/events/6421</div></body></html>

SUMMARY:Workshop on Capital Raising for Small Business
END:VEVENT
END:VCALENDAR