
BEGIN:VCALENDAR
VERSION:2.0
CALSCALE:GREGORIAN
BEGIN:VEVENT
URL;VALUE=URI:https://www.boardoftrade.com/events/6415
DTSTART:20190510T143000Z
DTEND:20190510T160000Z
UID:6415eventcalendar.boardoftrade.com
DTSTAMP:20260420T015226Z
LOCATION:SAP Vancouver Office910 Mainland StreetVancouver | 
DESCRIPTION:Schedule: \nRegistration & Light Breakfast:  7:30 - 8:00 a.m.\nLife at SAP by Sam Larbi:  8:00 - 8:15 a.m.\nRoundtable Discussion:  8:30 - 8:45 a.m.\nSAP Office Tour:  8:45 - 9:30 a.m.\n\n \nEvent Detail Page: https://www.boardoftrade.com/events/6415
X-ALT-DESC;FMTTYPE=text/html:<!doctype html><html><body><div>Schedule: <p>Registration & Light Breakfast: &nbsp\;7:30 - 8:00 a.m.<BR>Life at SAP by Sam Larbi: &nbsp\;8:00 - 8:15 a.m.<BR>Roundtable Discussion: &nbsp\;8:30 - 8:45 a.m.<BR>SAP Office Tour: &nbsp\;8:45 - 9:30 a.m.<BR></p></div>&nbsp\;<div>Event Detail Page: https://www.boardoftrade.com/events/6415</div></body></html>

SUMMARY:Discovery Series: Exclusive roundtable and office tour with SAP
END:VEVENT
END:VCALENDAR