
BEGIN:VCALENDAR
VERSION:2.0
CALSCALE:GREGORIAN
BEGIN:VEVENT
URL;VALUE=URI:https://www.boardoftrade.com/events/6400
DTSTART:20190516T183000Z
DTEND:20190516T210000Z
UID:6400eventcalendar.boardoftrade.com
DTSTAMP:20260420T015154Z
LOCATION:Fairmont Waterfront VancouverWaterfront Ballroom900 Canada Place\, Vancouver |  |  | 
DESCRIPTION:Schedule: \nRegistration:  11:30 a.m.\nLunch and Program:  12:00 - 2:00 p.m.\n \nEvent Detail Page: https://www.boardoftrade.com/events/6400
X-ALT-DESC;FMTTYPE=text/html:<!doctype html><html><body><div>Schedule: <p>Registration: &nbsp\;11:30 a.m.<BR>Lunch and Program: &nbsp\;12:00 - 2:00 p.m.</p></div>&nbsp\;<div>Event Detail Page: https://www.boardoftrade.com/events/6400</div></body></html>

SUMMARY:Seizing Opportunity: Building the Mines of Tomorrow
END:VEVENT
END:VCALENDAR