
BEGIN:VCALENDAR
VERSION:2.0
CALSCALE:GREGORIAN
BEGIN:VEVENT
URL;VALUE=URI:https://www.boardoftrade.com/events/6399
DTSTART:20190510T143000Z
DTEND:20190510T190000Z
UID:6399eventcalendar.boardoftrade.com
DTSTAMP:20260420T014830Z
LOCATION:Sheraton Vancouver Wall Centre Hotel | Pavilion Ballroom (South Tower)1088 Burrard Street\, Vancouver |  |  |  | 
DESCRIPTION:Schedule: \nRegistration & Buffet Breakfast: 7:30 - 8:00 a.m.\nProgram: 8:00 a.m. - 12:00 p.m.\n \nEvent Detail Page: https://www.boardoftrade.com/events/6399
X-ALT-DESC;FMTTYPE=text/html:<!doctype html><html><body><div>Schedule: <p>Registration & Buffet Breakfast: 7:30 - 8:00 a.m.<BR>Program: 8:00 a.m. - 12:00 p.m.</p></div>&nbsp\;<div>Event Detail Page: https://www.boardoftrade.com/events/6399</div></body></html>

SUMMARY:Gateway Forum: Innovating for future success
END:VEVENT
END:VCALENDAR