
BEGIN:VCALENDAR
VERSION:2.0
CALSCALE:GREGORIAN
BEGIN:VEVENT
URL;VALUE=URI:https://www.boardoftrade.com/events/6380
DTSTART:20190809T010000Z
DTEND:20190809T043000Z
UID:6380eventcalendar.boardoftrade.com
DTSTAMP:20260420T001055Z
LOCATION:Scotiabank FieldNat Bailey Stadium4601 Ontario StreetVancouver | 
DESCRIPTION:Schedule: \nTicket pick-up:  6:00 p.m. \nGame:  7:05 - 9:30 p.m.\n\n<strong>Photo and memorabilia signing</strong>:\nIn the concourse area:  7:00 - 8:30 p.m.\n \nEvent Detail Page: https://www.boardoftrade.com/events/6380
X-ALT-DESC;FMTTYPE=text/html:<!doctype html><html><body><div>Schedule: <p>Ticket pick-up: &nbsp\;6:00 p.m. <BR>Game: &nbsp\;7:05 - 9:30 p.m.<BR><BR><strong>Photo and memorabilia signing</strong>:<BR>In the concourse area: &nbsp\;7:00 - 8:30 p.m.</p></div>&nbsp\;<div>Event Detail Page: https://www.boardoftrade.com/events/6380</div></body></html>

SUMMARY:Networking at the Nat
END:VEVENT
END:VCALENDAR