
BEGIN:VCALENDAR
VERSION:2.0
CALSCALE:GREGORIAN
BEGIN:VEVENT
URL;VALUE=URI:https://www.boardoftrade.com/events/6370
DTSTART:20190321T000000Z
DTEND:20190321T020000Z
UID:6370eventcalendar.boardoftrade.com
DTSTAMP:20260420T103336Z
LOCATION:Uniserve | 330-333 Terminal Avenue | Vancouver | 
DESCRIPTION:Schedule: \nReception:  5:00 - 7:00 p.m.\n \nEvent Detail Page: https://www.boardoftrade.com/events/6370
X-ALT-DESC;FMTTYPE=text/html:<!doctype html><html><body><div>Schedule: <p>Reception: &nbsp\;5:00 - 7:00 p.m.</p></div>&nbsp\;<div>Event Detail Page: https://www.boardoftrade.com/events/6370</div></body></html>

SUMMARY:Members' Open House with Uniserve
END:VEVENT
END:VCALENDAR