
BEGIN:VCALENDAR
VERSION:2.0
CALSCALE:GREGORIAN
BEGIN:VEVENT
URL;VALUE=URI:https://www.boardoftrade.com/events/6346
DTSTART:20190705T143000Z
DTEND:20190705T190000Z
UID:6346eventcalendar.boardoftrade.com
DTSTAMP:20260422T173521Z
LOCATION:Fairmont Hotel Vancouver - Pacific Ballroom | 900 West Georgia Street\, Vancouver |  |  | 
DESCRIPTION:Schedule: \nRegistration & Buffet Breakfast:  7:30 - 8:00 a.m.\nProgram: 8:00 a.m. - 12:00 p.m.\n \nEvent Detail Page: https://www.boardoftrade.com/events/6346
X-ALT-DESC;FMTTYPE=text/html:<!doctype html><html><body><div>Schedule: <p>Registration &amp\; Buffet Breakfast: &nbsp\;7:30 - 8:00 a.m.<BR>Program: 8:00 a.m. - 12:00 p.m.</p></div>&nbsp\;<div>Event Detail Page: https://www.boardoftrade.com/events/6346</div></body></html>

SUMMARY:Inclusive Business Forum 2019: Engaging and supporting a diverse workforce
END:VEVENT
END:VCALENDAR